BEGIN:VCALENDAR
VERSION:2.0
PRODID:-//Formazione Periti G7
CALSCALE:GREGORIAN
METHOD:PUBLISH
X-WR-CALNAME:Formazione Periti G7
X-ORIGINAL-URL:https://formazioneperitig7.it/prodotto/climatizzazione-e-refrigerazione-con-gas-infiammabili/
X-WR-CALDESC:CLIMATIZZAZIONE E REFRIGERAZIONE CON GAS INFIAMMABILI
BEGIN:VEVENT
DTSTART:20260512T090000
DTEND:20260512T130000
SUMMARY:CLIMATIZZAZIONE E REFRIGERAZIONE CON GAS INFIAMMABILI
DESCRIPTION:L’Ordine dei Periti Industriali di Trento organizza un corso di Aggiornamento in Prevenzione Incendi:
<h1 style="text-align: center;"><span style="color: #ff0000;"><strong><em> </em>“CLIMATIZZAZIONE E REFRIGERAZIONE CON GAS INFIAMMABILI”</strong></span></h1>
<p style="text-align: center;"><span style="color: #ff0000;"><strong> </strong><strong>Il corso è valido ai fini dell’aggiornamento obbligatorio di cui all’art. 7 del D.M. 05/08/2011.</strong></span></p>
<em><strong><span style="color: #800000;">Data e luogo:</span>
</strong></em>martedì 12 maggio 2026                    dalle 9.00 alle 13.00

<span style="color: #800000;"><strong>Sede:</strong></span>
<u>Il corso si svolgerà <mark><strong>SOLO ONLINE </strong></mark></u>

Il corso avrà durata complessiva di 4 ore.
L’iscrizione è limitata ad un numero minimo di 15 partecipanti.

<span style="color: #800000;"><strong>Prog</strong><strong>ramma:</strong></span>
<ul>
 	<li>Semplificazione e introduzione sulla reazione al fuoco dei gas;</li>
 	<li>Focus sui fenomeni di combustione dei gas: infiammabilità ed esplosività;</li>
 	<li>Valutazione del rischio di infiammabilità di un gas;</li>
 	<li>La contestualizzazione della disciplina ATEX per le attrezzature con gas refrigeranti infiammabili;</li>
 	<li>Elementi di sicurezza del sistema di refrigerazione: direttiva macchine, PED e altri obblighi in capo al fabbricante;</li>
 	<li>La sicurezza dei locali tecnici e protezione delle persone;</li>
 	<li>La documentazione a corredo dei sistemi di climatizzazione.</li>
</ul>
Test di verifica finale di apprendimento <u>(il superamento è necessario per la validità del corso sia ai fini dell’assegnazione dei crediti che per l’assegnazione del monte ore di aggiornamento valido ai fini dell’art.</u><u> 7 del D.M. 05/08/2011.</u>

<span style="color: #800000;"><strong>Docente:
</strong></span><strong>Andrea Rattacaso</strong>

<span style="color: #800000;"><strong>CFP
</strong></span>Per periti industriali 4 CFP + 3 CFP per il superamento del test finale

Durante i corsi <mark>NON SONO PREVISTE ASSENZE</mark> come da decreto e pertanto si raccomanda di presentarsi puntuali in modo da consentire lo svolgimento delle lezioni negli orari indicati.

<span style="color: #800000;"><em><strong>Quota di partecipazione e metodo di pagamento
</strong></em></span><em>La quota di partecipazione è di <strong>70 euro (iva compresa)</strong> con un numero minimo di 15 partecipanti.</em>

<span style="color: #800000;"><em><strong>!!</strong></em><em> La quota di iscrizione sarà restituita solo in caso di non realizzazione del percorso formativo da parte dello scrivente per non raggiungimento del numero minimo di iscrizione che sarà comunicata almeno 5 giorni prima via mail.</em><em>Nel caso di sopravvenuta impossibilità a partecipare al corso, <u>l’iscritto</u> <u>dovrà dare opportuna disdetta di partecipazione </u>comunicata via mail <u>entro i 5 giorni precedenti l’inizio del corso medesimo per avere il rimborso della quota.</u></em><em><strong>!!</strong></em></span>

<em>Pertanto, qualora fossi interessato a partecipare, ti invitiamo a provvedere all’iscrizione al corso </em><em><strong><u>entro e non oltre le ore 12.00 del 07/05/2026</u></strong></em> <em>a seguito della quale arriverà mail con istruzioni per il relativo pagamento.</em>

<em><strong><span style="color: #ff0000;">!! SE L’ISCRIZIONE È ANDATA A BUON FINE, ARRIVERA’ MAIL DI CONFERMA DA</span> </strong></em><a href="mailto:INFO@FORMAZIONEPERITIG7.IT"><em>INFO@FORMAZIONEPERITIG7.IT</em></a><em><strong>, <span style="color: #ff0000;">NELLA QUALE DI DEFAULT ARRIVANO ANCHE LE ISTRUZIONI DI PARTECIPAZIONE AD UN LINK DI COLLEGAMENTO AL CORSO!!</span></strong></em>
LOCATION:
END:VEVENT
END:VCALENDAR
