BEGIN:VCALENDAR
VERSION:2.0
PRODID:-//Formazione Periti G7
CALSCALE:GREGORIAN
METHOD:PUBLISH
X-WR-CALNAME:Formazione Periti G7
X-ORIGINAL-URL:https://formazioneperitig7.it/prodotto/il-sistema-bus-dali-2/
X-WR-CALDESC:Il sistema bus DALI-2
BEGIN:VEVENT
DTSTART:20251028T090000
DTEND:20251028T130000
SUMMARY:Il sistema bus DALI-2
DESCRIPTION:<em>L’Ordine dei Periti Industriali di Trento organizza il seguente corso dal titolo:</em>
<h1 style="text-align: center;"><span style="color: #ff0000;">“Il sistema bus DALI-2”</span></h1>
<em><strong><span style="color: #800000;">Data e luogo:</span>
</strong></em>Martedì 28/10/2025 ore 09.00 – 13.00
in modalità <strong>DUALE</strong>: PRESENZA (presso l’Ordine di Trento – Galleria Tirrena, 10 38122 Trento) e ON LINE

<span style="color: #800000;"><strong>Programma:</strong></span>
<ul>
 	<li>I nuovi CAM (Criteri Ambientali Minimi) per l’edilizia: per un nuovo uso sostenibile delle risorse naturali. I Sistemi di Regolazione dell’Illuminazione alla luce dei nuovi CAM che sono i requisiti ambientali ed ecologici definiti dal Ministero della Transizione Ecologica volti ad indirizzare le Pubbliche Amministrazioni verso una razionalizzazione dei consumi e degli acquisti fornendo indicazioni per l’individuazione di soluzioni progettuali, prodotti o servizi migliori sotto il profilo ambientale.</li>
 	<li>Lighting Control System: il nuovo protocollo standard DALI-2 (Norma 62386)</li>
 	<li>Sistema bus DALI-2: caratteristiche tecniche e vantaggi rispetto ai “vecchi” Sistemi DALI</li>
 	<li>Come progettare un Sistema bus DALI-2</li>
 	<li>Sistema bus DALI-2 DUELUX: analisi di alcuni Case Studies</li>
 	<li>Efficientamento Energetico: il ruolo dei Sistemi di Building Automation e dei BMS (Building Management System)</li>
 	<li>Sostenibilità ambientale degli edifici: gli Standard internazionali più diffusi</li>
</ul>
<strong><span style="color: #800000;">Relatori:</span>
</strong>Sergio Arienti

<strong><span style="color: #800000;">CFP</span>
</strong>4 CFP

<span style="color: #800000;"><strong>ISCRIZIONI</strong>: <strong>entro e non oltre le ore 12:00 di lunedì 24/10/2025</strong></span>

!! Nel caso di sopravvenuta impossibilità a partecipare al corso, l’iscritto dovrà dare opportuna disdetta di partecipazione comunicandola via mail entro i 5 giorni precedenti l’inizio del corso medesimo!!

<em><strong>!!</strong></em><em> SE L’ISCRIZIONE È ANDATA A BUON FINE, ARRIVERA’ MAIL DI CONFERMA DA </em><a href="mailto:INFO@FORMAZIONEPERITIG7.IT"><em>INFO@FORMAZIONEPERITIG7.IT</em></a><em> !<strong>!</strong></em>

&nbsp;
LOCATION:
END:VEVENT
END:VCALENDAR
