BEGIN:VCALENDAR
VERSION:2.0
PRODID:-//Formazione Periti G7
CALSCALE:GREGORIAN
METHOD:PUBLISH
X-WR-CALNAME:Formazione Periti G7
X-ORIGINAL-URL:https://formazioneperitig7.it/prodotto/85649/
X-WR-CALDESC:Le novità normative e tecnologiche per la decarbonizzazione degli impianti HVAC
BEGIN:VEVENT
DTSTART:20250206T090000
DTEND:20250206T130000
SUMMARY:Le novità normative e tecnologiche per la decarbonizzazione degli impianti HVAC
DESCRIPTION:<em> </em><em>L’Ordine dei Periti Industriali di Trento organizza il seguente corso dal titolo:</em>
<p style="text-align: center;"><span style="color: #ff0000;"><strong>“Le novità normative e tecnologiche per la decarbonizzazione degli impianti HVAC”</strong></span></p>
<em><strong>Data e luogo:
</strong></em>06/02/2025 ore 9.00 – 13.00
in PRESENZA, presso l’Ordine di Trento – Galleria Tirrena, 10 38122 Trento

<strong>Argomenti:</strong>
<ul>
 	<li>Gli edifici smart o green? scenari ed opportunità di miglioramento con le revisioni delle <strong>Direttive Europee EED, RED, EPBD IV</strong></li>
 	<li>Nuovo testo di revisione del <strong>DM 26/06/2015 «Requisiti minimi»</strong> contenuto tecnico dei nuovi allegati e soluzioni adottate a seguito criticità evidenziate dagli operatori</li>
 	<li><strong>Analisi norma UNI EN ISO 52120</strong>: il ruolo della regolazione e taratura impianti e dei sistemi BACS nella prestazione energetica degli edifici</li>
 	<li>Le <strong>soluzioni tecniche</strong> di efficienza energetica <strong>WATTS</strong> con riferimenti tecnici sui dispositivi per il bilanciamento delle reti (iDROSET®) le tubazioni preisolate flessibili Microflex® e alla domotica Smart Home System Watts Vision®</li>
</ul>
<strong>Relatori:         </strong>

Per.Ind. Dario Ghisleni
Ing. Giacomo Bolzoni
Senior Technical Sales Consultant  – Watts Industries

<strong>CFP
</strong>4 CFP

<strong> </strong><strong>ISCRIZIONI</strong>: <strong>entro e non oltre 04/02/2025</strong>.

<span style="color: #800000;">!! Nel caso di sopravvenuta impossibilità a partecipare al corso, l’iscritto dovrà dare opportuna disdetta di partecipazione comunicandola via mail entro i 5 giorni precedenti l’inizio del corso !!</span>

<span style="color: #800000;"><em><strong>!!</strong></em><em> SE L’ISCRIZIONE È ANDATA A BUON FINE, ARRIVERA’ MAIL DI CONFERMA DA </em><a style="color: #800000;" href="mailto:INFO@FORMAZIONEPERITIG7.IT"><em>INFO@FORMAZIONEPERITIG7.IT</em></a><em> , NELLA QUALE DI DEFAULT SI FA RIFERIMENTO AD UN LINK DI COLLEGAMENTO AL CORSO, QUEST’ULTIMO NON È DA CONSIDERARE IN QUANTO <strong>IL CORSO E’ IN SOLA PRESENZA COME INDICATO NEL PROGRAMMA!!</strong></em></span>
LOCATION:
END:VEVENT
END:VCALENDAR
